BEGIN:VCALENDAR
VERSION:2.0
PRODID:-//103.250.232.10//NONSGML kigkonsult.se iCalcreator 2.26.9//
CALSCALE:GREGORIAN
METHOD:PUBLISH
X-WR-CALNAME:Auckland Masters Athletics
X-WR-CALDESC:Official site of Auckland Masters Athletics Inc.
X-FROM-URL:http://ama.org.nz
X-WR-TIMEZONE:Pacific/Auckland
BEGIN:VTIMEZONE
TZID:Pacific/Auckland
X-LIC-LOCATION:Pacific/Auckland
BEGIN:STANDARD
DTSTART:20200405T030000
TZOFFSETFROM:+1300
TZOFFSETTO:+1200
RDATE:20210404T030000
TZNAME:NZST
END:STANDARD
BEGIN:DAYLIGHT
DTSTART:20190929T020000
TZOFFSETFROM:+1200
TZOFFSETTO:+1300
RDATE:20200927T020000
TZNAME:NZDT
END:DAYLIGHT
END:VTIMEZONE
BEGIN:VEVENT
UID:ai1ec-2283@ama.org.nz
DTSTAMP:20191219T100514Z
CATEGORIES:
CONTACT:
DESCRIPTION:<p><a href='http://athleticsauckland.co.nz/News/evr/1/athletics
 -auckland-track-field-championships-3' target='_blank' rel='noopener noref
 errer'>Enter Online</a></p>\n<p> </p>\n<p><a href='http://ama.org.nz/wp-co
 ntent/uploads/2019/09/Auckland-Champs-2020-Auckland-Champs-2020.pdf'>Auckl
 and Champs 2020 – Program</a></p>
DTSTART;TZID=Pacific/Auckland:20200201T080000
DTEND;TZID=Pacific/Auckland:20200209T180000
GEO:-36.918288;+174.812369
LOCATION:mt smart @ 2 Beasley Ave\, Penrose\, Auckland 1061\, New Zealand
SEQUENCE:0
SUMMARY:Auckland Masters Champs
URL:http://ama.org.nz/event/auckland-masters-champs/
X-COST-TYPE:free
END:VEVENT
END:VCALENDAR
