BEGIN:VCALENDAR
VERSION:2.0
PRODID:-//103.250.232.10//NONSGML kigkonsult.se iCalcreator 2.26.9//
CALSCALE:GREGORIAN
METHOD:PUBLISH
X-WR-CALNAME:Auckland Masters Athletics
X-WR-CALDESC:Official site of Auckland Masters Athletics Inc.
X-FROM-URL:http://ama.org.nz
X-WR-TIMEZONE:Pacific/Auckland
BEGIN:VTIMEZONE
TZID:Pacific/Auckland
X-LIC-LOCATION:Pacific/Auckland
BEGIN:STANDARD
DTSTART:20200405T030000
TZOFFSETFROM:+1300
TZOFFSETTO:+1200
RDATE:20210404T030000
TZNAME:NZST
END:STANDARD
BEGIN:DAYLIGHT
DTSTART:20190929T020000
TZOFFSETFROM:+1200
TZOFFSETTO:+1300
RDATE:20200927T020000
TZNAME:NZDT
END:DAYLIGHT
END:VTIMEZONE
BEGIN:VEVENT
UID:ai1ec-2282@ama.org.nz
DTSTAMP:20191219T100213Z
CATEGORIES:
CONTACT:
DESCRIPTION:<p><a href='http://athleticsauckland.co.nz/News/mckinnon-shield
 -8' target='_blank' rel='noopener noreferrer'>Enter Event</a></p>
DTSTART;TZID=Pacific/Auckland:20200118T130000
DTEND;TZID=Pacific/Auckland:20200118T180000
GEO:-36.918288;+174.812369
LOCATION:Mt Smart @ 2 Beasley Ave\, Penrose\, Auckland 1061\, New Zealand
SEQUENCE:0
SUMMARY:AMA Meet # 1
URL:http://ama.org.nz/event/ama-meet-3/
X-COST-TYPE:free
END:VEVENT
END:VCALENDAR
